BEGIN:VCALENDAR
VERSION:2.0
PRODID:-//eventon.com NONSGML v1.0//EN
CALSCALE:GREGORIAN
METHOD:PUBLISH
BEGIN:VEVENT
UID:69ecb69365c49
DTSTAMP:20260425T124155Z
DTSTART:20260701T123000Z
DTEND:20260701T170000Z
LOCATION:
SUMMARY:Banenmarkt: Human Capital XL
DESCRIPTION:Banenmarkt: Human Capital XL\nhttps://wsphollandrijnland.nl/eve
 nts/banenmarkt-human-capital-xl/
URL:https://wsphollandrijnland.nl/events/banenmarkt-human-capital-xl/
END:VEVENT
END:VCALENDAR