BEGIN:VCALENDAR
VERSION:2.0
PRODID:-//eventon.com NONSGML v1.0//EN
CALSCALE:GREGORIAN
METHOD:PUBLISH
BEGIN:VEVENT
UID:69eb607b0928e
DTSTAMP:20260424T122219Z
DTSTART:20260627
DTEND:20260628
LOCATION:
SUMMARY:Dutch Bio Science Week 2026
DESCRIPTION:Dutch Bio Science Week 2026\nhttps://wsphollandrijnland.nl/even
 ts/dutch-bio-science-week-2026/
URL:https://wsphollandrijnland.nl/events/dutch-bio-science-week-2026/
END:VEVENT
END:VCALENDAR