BEGIN:VCALENDAR
VERSION:2.0
PRODID:-//eventon.com NONSGML v1.0//EN
CALSCALE:GREGORIAN
METHOD:PUBLISH
BEGIN:VEVENT
UID:69ecb84f88cff
DTSTAMP:20260425T124919Z
DTSTART:20260512T073000Z
DTEND:20260512T103000Z
LOCATION:
SUMMARY:Training: Interculturele Communicatie op de werkvloer
DESCRIPTION:Training: Interculturele Communicatie op de werkvloer\nhttps://
 wsphollandrijnland.nl/events/training-interculturele-communicatie-op-de-wer
 kvloer/
URL:https://wsphollandrijnland.nl/events/training-interculturele-communicatie-op-de-werkvloer/
END:VEVENT
END:VCALENDAR